Workbook

Sheet 원가계산서
A1: 공 사 원 가 계 산 서
A4: ■사 업 명 : 대전디자인진흥원 공간구성 전기설비공사
A5: ■공사금액 : ₩62,503,000(금육천이백오십만삼천원)
A7: 비 목 | E7: 구 분 | M7: 금 액 | T7: 구 성 비 | AE7: 비 고
A8: 순 공 사 원 가 | C8: 재료비 | E8: 직 접 재 료 비 | M8: =총괄표!I29 -> 0
E9: 간 접 재 료 비
E10: 작 업 부 산 물
E11: 소 계 | M11: =SUM(M8:S10) -> 0
C12: 노 무 비 | E12: 직접노무비(가) | M12: =총괄표!L29 -> 0
E13: 간접노무비(나) | M13: =M12*8% -> 0 | T13: 직접노무비 * 8%
E14: 소 계 | M14: =SUM(M12:S13) -> 0
C15: 경 비 | E15: 산 출 경 비 | M15: =총괄표!N29 -> 0
E16: 산 재 보 험 료 | M16: =M14*3.73% -> 0 | T16: 노무비 * 3.73%
E17: 고 용 보 험 료 | M17: =M14*0.87% -> 0 | T17: 노무비 * 0.87%
E18: 건 강 보 험 료 | M18: =M12*3.335% -> 0 | T18: 직접노무비 * 3.335%
E19: 연 금 보 험 료 | M19: =M12*4.5% -> 0 | T19: 직접노무비 * 4.5%
E20: 노인장기요양보험료 | M20: =M18*10.25% -> 0 | T20: (건강보험료)x10.25%
E21: 산업안전보건관리비 | M21: =(M11+M12)*2.93% -> 0 | T21: (재료비＋직접노무비+도급자관급자재비)×2.93%
E22: 기 타 경 비 | M22: =(M11+M14)*5.6% -> 0 | T22: (재료비+노무비)x5.6%
E23: 퇴직공제부금비 | M23: 0 | T23: 직접노무비 * 2.3%
E24: 건설하도급대금 지급보증서발급수수료 | M24: =ROUNDDOWN(((M11+M12+M15)*#REF!),0) -> #REF! | T24: (재료비+직접노무비+산출경비)x0%
E25: 예비-1
E26: 예비-2
E27: 소 계 | M27: =SUM(M15:S23) -> 0
C28: 계 | M28: =M11+M14+M27 -> 0
A29: 일 반 관 리 비 | M29: =M28*6% -> 0 | T29: 합 계 * 6%
A30: 이 윤 | M30: =(M14+M27+M29)*15% -> 0 | T30: (노무비+경비+일반관리비) * 15%
A31: 사 급 사 재 비
A32: 총 원 가 | M32: =SUM(M28:S31) -> 0
A33: 부 가 가 치 세 | M33: =INT(M32*10%) -> 0 | T33: 공급가액 * 10%
A34: 도 급 액 | M34: =SUM(M32:S33) -> 0
A35: 한 전 불 입 급
A36: 도 급 자 관 급
A37: 관 급 자 관 급
A38: [ 총 공 사 비 ] | M38: =M34+M35+M36+M37 -> 0

Sheet 총괄표
A1: 총줄수-> | B1: 29 | D1: [ 대전디자인진흥원 공간구성 전기설비공사 ] | AA1: 연속견적가로형식
A2: 번호 | B2: 공종코드 | C2: … | D2: 공 종 명 | E2: 규격 | F2: 단위 | G2: 수량 | H2: 재료비 | J2: 노무비 | M2: 경비 | P2: 계 | Q2: 비고
H3: 단가 | I3: 금액 | J3: 수량 | K3: 단가 | L3: 금액 | M3: 단가 | N3: 금액 | O3: 단가
B4: 공종줄 | D4: 대전디자인진흥원 공간구성 리모델링 전기설비공사
B5: 01 | D5: 1.냉난방전기설비공사 | F5: 식 | G5: 1
B6: 02 | D6: 2.전열설비공사 | F6: 식 | G6: 1
B7: 03 | D7: 3.조명설비공사 | F7: 식 | G7: 1
C29: Total | D29: ( 합 계 )

Sheet 내역서
A1: 총줄수-> | B1: 107 | D1: [ 대전디자인진흥원 공간구성 전기설비공사 ] | W1: 노임 계산 정보 | AA1: 부속재 및 손료
A2: 번호 | B2: 공종코드 | C2: 코드 | D2: 명 칭 | E2: 규 격 | F2: 단위 | G2: 수량 | H2: 재료비 | J2: 노무비 | M2: 경비 | P2: 계 | Q2: 비고 | W2: 노임계 | X2: 전체(%) | Y2: 공종별(%) | Z2: 노임 소수 | AA2: CD배관재 | AB2: 일반배관재 | AC2: 소모재 | AD2: 자재계 | AE2: 노임계
H3: 단가 | I3: 금액 | J3: 수량 | K3: 단가 | L3: 금액 | M3: 단가 | N3: 금액 | O3: 단가 | AD3: =IF(옵션!$C$11 =0, "1", 옵션!$C$11) -> 1 | AE3: =IF(옵션!$C$12 =0, "1", 옵션!$C$12) -> 1
B4: 공종줄 | D4: 1.냉난방전기설비공사
A5: 56958000001 | B5: 01 | C5: EAZ700010000 | D5: 경질비닐전선관 | E5: HI 16 mm | F5: M | G5: 61 | AB5: =I5 -> 0 | AC5: =G5*H5 -> 0
A6: 56958000004 | B6: 01 | C6: EAZ700040000 | D6: 1종금속제가요전선관 | E6: 16 mm 일반-비방수 | F6: M | G6: 8 | AB6: =I6 -> 0 | AC6: =G6*H6 -> 0
A7: 56958000004 | B7: 01 | C7: EAZ700040000 | D7: 1종금속제가요전선관 | E7: 16 mm 일반-비방수 | F7: M | G7: 16 | AB7: =I7 -> 0 | AC7: =G7*H7 -> 0
A8: 56958000010 | B8: 01 | C8: EAZ700100000 | D8: 450/750V 내열비닐절연전선 | E8: HFIX 2.5㎟ | F8: M | G8: 121 | AC8: =G8*H8 -> 0
A9: 56958000005 | B9: 01 | C9: EAZ700050000 | D9: 아우트렛박스 | E9: 중형4각 54㎜ | F9: 개 | G9: 16
A10: 59753767231 | B10: 01 | C10: 3912130820174713 | D10: 아우트렛박스 커버 | E10: 커버, 4각, 평형 | F10: 개 | G10: 8
AE11: =TRUNC(SUM(AE4:AE10)) -> 0
B29: 합계줄 | D29: ( 합 계 ) | I29: =TRUNC(SUM(I4:I28)) -> 0 | L29: =TRUNC(SUM(L4:L28)) -> 0 | N29: =TRUNC(SUM(N4:N28)) -> 0 | O29: =IF((H29+K29+M29)=0, "", (H29+K29+M29)) | P29: =TRUNC(SUM(P4:P28)) -> 0
B30: 공종줄 | D30: 2.전열설비공사
A31: 56958000001 | B31: 02 | C31: EAZ700010000 | D31: 경질비닐전선관 | E31: HI 16 mm | F31: M | G31: 410 | AB31: =I31 -> 0 | AC31: =G31*H31 -> 0
A32: 56958000010 | B32: 02 | C32: EAZ700100000 | D32: 450/750V 내열비닐절연전선 | E32: HFIX 2.5㎟ | F32: M | G32: 1229 | AC32: =G32*H32 -> 0
A33: 56958000008 | B33: 02 | C33: EAZ700080000 | D33: 시스템 박스 | E33: 전선관용(매입) | F33: 개 | G33: 6
A34: 56958000015 | B34: 02 | C34: EAZ700150000 | D34: 콘센트 | E34: 매입-접지형, 250V 1구 | F34: 개 | G34: 8
A35: 56958000016 | B35: 02 | C35: EAZ700160000 | D35: 콘센트 | E35: 매입-접지형, 250V 2구 | F35: 개 | G35: 62
A36: 56958000009 | B36: 02 | C36: EAZ700090000 | D36: HIGH TENTION 220V 2G | F36: 개 | G36: 6
A37: 56958000005 | B37: 02 | C37: EAZ700050000 | D37: 아우트렛박스 | E37: 중형4각 54㎜ | F37: 개 | G37: 42
A38: 56958000006 | B38: 02 | C38: EAZ700060000 | D38: 스위치박스 | E38: 1 개용 54 mm | F38: 개 | G38: 21
A39: 59753767231 | B39: 02 | C39: 3912130820174713 | D39: 아우트렛박스 커버 | E39: 커버, 4각, 평형 | F39: 개 | G39: 15
A40: 59753767241 | B40: 02 | C40: 3912130820174714 | D40: 아우트렛박스 커버 | E40: 커버, 4각, 둥근구멍(오목) | F40: 개 | G40: 12
A41: 56958000017 | B41: 02 | C41: EAZ700170000 | D41: 누전차단기(32KGRc) | E41: 2P 30AF 20AT | F41: EA | G41: 10
A42: 56959100801 | B42: 02 | C42: EAB110211000 | D42: 배관용 홈파기 | E42: Φ22이하 | F42: M | G42: 10
AE43: =TRUNC(SUM(AE30:AE42)) -> 0
B55: 합계줄 | D55: ( 합 계 ) | I55: =TRUNC(SUM(I30:I54)) -> 0 | L55: =TRUNC(SUM(L30:L54)) -> 0 | N55: =TRUNC(SUM(N30:N54)) -> 0 | O55: =IF((H55+K55+M55)=0, "", (H55+K55+M55)) | P55: =TRUNC(SUM(P30:P54)) -> 0
B56: 공종줄 | D56: 3.조명설비공사
A57: 56958000002 | B57: 03 | C57: EAZ700020000 | D57: 경질비닐전선관 | E57: HI 22 mm | F57: M | G57: 31 | AB57: =I57 -> 0 | AC57: =G57*H57 -> 0
A58: 56958000001 | B58: 03 | C58: EAZ700010000 | D58: 경질비닐전선관 | E58: HI 16 mm | F58: M | G58: 210 | AB58: =I58 -> 0 | AC58: =G58*H58 -> 0
A59: 56958000003 | B59: 03 | C59: EAZ700030000 | D59: 폴리에틸렌 전선관 | E59: PE 22㎜ | F59: M | G59: 53 | AB59: =I59 -> 0 | AC59: =G59*H59 -> 0
A60: 56958000004 | B60: 03 | C60: EAZ700040000 | D60: 1종금속제가요전선관 | E60: 16 mm 일반-비방수 | F60: M | G60: 85 | AB60: =I60 -> 0 | AC60: =G60*H60 -> 0
A61: 59753017043 | B61: 03 | C61: 3913170620174434 | D61: 1종금속제가요전선관 | E61: 커넥터, 16 mm 일반-비방수 | F61: 개 | G61: 170
A62: 56958000011 | B62: 03 | C62: EAZ700110000 | D62: 폴리에틸렌 난연케이블 | E62: 0.6/1kv F-CV 3C×2.5㎟ | F62: M | G62: 53 | AC62: =G62*H62 -> 0
A63: 56958000010 | B63: 03 | C63: EAZ700100000 | D63: 450/750V 내열비닐절연전선 | E63: HFIX 2.5㎟ | F63: M | G63: 757 | AC63: =G63*H63 -> 0
A64: 56958000018 | B64: 03 | C64: EAZ700180000 | D64: 조명기구 | E64: 'A" TYPE | F64: EA | G64: 5
A65: 56958000019 | B65: 03 | C65: EAZ700190000 | D65: 조명기구 | E65: 'B" TYPE | F65: EA | G65: 1
A66: 56958000020 | B66: 03 | C66: EAZ700200000 | D66: 조명기구 | E66: 'C" TYPE | F66: EA | G66: 5
A67: 56958000021 | B67: 03 | C67: EAZ700210000 | D67: 조명기구 | E67: 'D" TYPE | F67: EA | G67: 4
A68: 56958000022 | B68: 03 | C68: EAZ700220000 | D68: 조명기구 | E68: 'E" TYPE | F68: EA | G68: 45
...

Sheet 합산자재
B1: 55 | C1: [ 대전디자인진흥원공간구성 전기설비공사 ] - 합산자재목록
A2: 번호 | B2: … | C2: 코드 | D2: 명 칭 | E2: 규 격 | F2: 단위 | G2: 수량 | H2: 재료비 | I2: 노무비 | J2: 경비 | K2: 지급비 | L2: 계 | M2: 비고
B4: 59751467012 | C4: 3913170610034965 | D4: 경질비닐전선관 | E4: HI 16 mm | F4: M | G4: 749.1 | H4: =ROUNDDOWN(#REF!*옵션!$D$11, 0) -> #REF! | L4: =SUM(H4,I4,J4) -> #REF!
B5: 59751467013 | C5: 3913170610034966 | D5: 경질비닐전선관 | E5: HI 22 mm | F5: M | G5: 34.1 | H5: =ROUNDDOWN(#REF!*옵션!$D$11, 0) -> #REF! | L5: =SUM(H5,I5,J5) -> #REF!
B6: 59753067003 | C6: 3913170620174623 | D6: 폴리에틸렌 전선관 | E6: PE 22㎜ | F6: M | G6: 58.3 | H6: =ROUNDDOWN(#REF!*옵션!$D$11, 0) -> #REF! | L6: =SUM(H6,I6,J6) -> #REF!
B7: 59753017003 | C7: 3913170620174410 | D7: 1종금속제가요전선관 | E7: 16 mm 일반-비방수 | F7: M | G7: 119.9 | H7: =ROUNDDOWN(#REF!*옵션!$D$11, 0) -> #REF! | L7: =SUM(H7,I7,J7) -> #REF!
B8: 59753017043 | C8: 3913170620174434 | D8: 1종금속제가요전선관 | E8: 커넥터, 16 mm 일반-비방수 | F8: 개 | G8: 170 | H8: =ROUNDDOWN(#REF!*옵션!$D$11, 0) -> #REF! | L8: =SUM(H8,I8,J8) -> #REF!
B9: 59753767041 | C9: 3912130810035753 | D9: 아우트렛박스 | E9: 중형4각 54㎜ | F9: 개 | G9: 137 | H9: =ROUNDDOWN(#REF!*옵션!$D$11, 0) -> #REF! | L9: =SUM(H9,I9,J9) -> #REF!
B10: 59753777102 | C10: 3912130610035778 | D10: 스위치박스 | E10: 1 개용 54 mm | F10: 개 | G10: 25 | H10: =ROUNDDOWN(#REF!*옵션!$D$11, 0) -> #REF! | L10: =SUM(H10,I10,J10) -> #REF!
B11: 59753777111 | C11: 3912130610035781 | D11: 스위치박스 | E11: 2 개용 54 mm | F11: 개 | G11: 1 | H11: =ROUNDDOWN(#REF!*옵션!$D$11, 0) -> #REF! | L11: =SUM(H11,I11,J11) -> #REF!
B12: 59753767231 | C12: 3912130820174713 | D12: 아우트렛박스 커버 | E12: 커버, 4각, 평형 | F12: 개 | G12: 103 | H12: =ROUNDDOWN(#REF!*옵션!$D$11, 0) -> #REF! | L12: =SUM(H12,I12,J12) -> #REF!
B13: 59753767241 | C13: 3912130820174714 | D13: 아우트렛박스 커버 | E13: 커버, 4각, 둥근구멍(오목) | F13: 개 | G13: 12 | H13: =ROUNDDOWN(#REF!*옵션!$D$11, 0) -> #REF! | L13: =SUM(H13,I13,J13) -> #REF!
B14: 59350067001 | C14: 3912131020170560 | D14: 시스템 박스 | E14: 전선관용(매입) | F14: 개 | G14: 6 | H14: =ROUNDDOWN(#REF!*옵션!$D$11, 0) -> #REF! | L14: =SUM(H14,I14,J14) -> #REF!
B15: MM300040276 | C15: 3912131020171582 | D15: HIGH TENTION 220V 2G | F15: 개 | G15: 6 | H15: =ROUNDDOWN(#REF!*옵션!$D$11, 0) -> #REF! | L15: =SUM(H15,I15,J15) -> #REF!
B16: E1450667012 | C16: 2612162922076729 | D16: 450/750V 내열비닐절연전선 | E16: HFIX 2.5㎟ | F16: M | G16: 2317.7 | H16: =ROUNDDOWN(#REF!*옵션!$D$11, 0) -> #REF! | L16: =SUM(H16,I16,J16) -> #REF!
B17: E1450287538 | C17: 2612162920683921 | D17: 폴리에틸렌 난연케이블 | E17: 0.6/1kv F-CV 3C×2.5㎟ | F17: M | G17: 55.65 | H17: =ROUNDDOWN(#REF!*옵션!$D$11, 0) -> #REF! | L17: =SUM(H17,I17,J17) -> #REF!
B18: 59300457211 | C18: 3912998720170523 | D18: 매입스위치(Lamp) | E18: 250V 1로1구 | F18: 개 | G18: 2 | H18: =ROUNDDOWN(#REF!*옵션!$D$11, 0) -> #REF! | L18: =SUM(H18,I18,J18) -> #REF!
B19: 59300457213 | C19: 3912998720170525 | D19: 매입스위치(Lamp) | E19: 250V 1로3구 | F19: 개 | G19: 1 | H19: =ROUNDDOWN(#REF!*옵션!$D$11, 0) -> #REF! | L19: =SUM(H19,I19,J19) -> #REF!
B20: 59300457214 | C20: 3912998720172228 | D20: 매입스위치(Lamp) | E20: 250V 1로4구 | F20: 개 | G20: 1 | H20: =ROUNDDOWN(#REF!*옵션!$D$11, 0) -> #REF! | L20: =SUM(H20,I20,J20) -> #REF!
B21: 59350317205 | C21: 3912140620170849 | D21: 콘센트 | E21: 매입-접지형, 250V 1구 | F21: 개 | G21: 8 | H21: =ROUNDDOWN(#REF!*옵션!$D$11, 0) -> #REF! | L21: =SUM(H21,I21,J21) -> #REF!
B22: 59350317206 | C22: 3912140620170850 | D22: 콘센트 | E22: 매입-접지형, 250V 2구 | F22: 개 | G22: 62 | H22: =ROUNDDOWN(#REF!*옵션!$D$11, 0) -> #REF! | L22: =SUM(H22,I22,J22) -> #REF!
B23: MM300020604 | C23: 3912161420167114 | D23: 누전차단기(32KGRc) | E23: 2P 30AF 20AT | F23: EA | G23: 10 | H23: =ROUNDDOWN(#REF!*옵션!$D$11, 0) -> #REF! | L23: =SUM(H23,I23,J23) -> #REF!
B24: MM873846888 | C24: 391115ZZ701Z0001 | D24: 조명기구 | E24: 'A" TYPE | F24: EA | G24: 5 | H24: =ROUNDDOWN(#REF!*옵션!$D$11, 0) -> #REF! | L24: =SUM(H24,I24,J24) -> #REF!
B25: MM873849512 | C25: 391115ZZ701Z0002 | D25: 조명기구 | E25: 'B" TYPE | F25: EA | G25: 1 | H25: =ROUNDDOWN(#REF!*옵션!$D$11, 0) -> #REF! | L25: =SUM(H25,I25,J25) -> #REF!
B26: MM873849511 | C26: 391115ZZ701Z0003 | D26: 조명기구 | E26: 'C" TYPE | F26: EA | G26: 5 | H26: =ROUNDDOWN(#REF!*옵션!$D$11, 0) -> #REF! | L26: =SUM(H26,I26,J26) -> #REF!
B27: MM873220821 | C27: 391115ZZ701Z0004 | D27: 조명기구 | E27: 'D" TYPE | F27: EA | G27: 4 | H27: =ROUNDDOWN(#REF!*옵션!$D$11, 0) -> #REF! | L27: =SUM(H27,I27,J27) -> #REF!
... B36: MM875367888 | C36: 391115ZZ701Z0013 | D36: 조명기구 | E36: 'M" TYPE | F36: EA | G36: 18 | H36: =ROUNDDOWN(#REF!*옵션!$D$11, 0) -> #REF! | L36: =SUM(H36,I36,J36) -> #REF!
B37: 56900017016 | C37: L001010101000075 | D37: 노 무 비 | E37: 내선전공 | F37: 인 | G37: 134.32 | I37: =ROUNDDOWN(#REF!, 0) -> #REF! | L37: =SUM(H37,I37,J37) -> #REF!
B38: 56900017076 | C38: L001010101000078 | D38: 노 무 비 | E38: 저압케이블전공 | F38: 인 | G38: 1.007 | I38: =ROUNDDOWN(#REF!, 0) -> #REF! | L38: =SUM(H38,I38,J38) -> #REF!
B39: 56900017041 | C39: L001010101000002 | D39: 노 무 비 | E39: 보통인부 | F39: 인 | G39: 1.28 | I39: =ROUNDDOWN(#REF!, 0) -> #REF! | L39: =SUM(H39,I39,J39) -> #REF!

Sheet 옵션
B1: 재료비 | C1: 노무비 | D1: 경비 | F1: 계
A2: 총 급 액 | B2: =총괄표!I29 -> 0 | C2: =총괄표!L29 -> 0 | D2: =총괄표!N29 -> 0 | F2: =SUM(B2,C2,D2) -> 0
A3: 관급 자재비 | F3: =SUM(B3,C3,D3) -> 0 | H3: 금액조정이 안되나요?
H6: 이지테크에서 변환할 때 2번 옵션을 지정하여 다시 해보세요
H9: 시트를 삭제할 때 에러가 뜨면 1번 옵션으로 하면 됩니다.
B10: 적용율(%) | C10: 끝자리 | D10: 적용율(%)/100 | E10: 일위대가소수
A11: 전체자재 적용율(%)(공종/일위대가) | B11: 100 | C11: 1 | D11: =$B$11/100 -> 1
A12: 전체노임 적용율(%)(공종) | B12: 90 | C12: 1 | D12: =$B$12/100 -> 0.9 | E12: 2 | H12: 2번 옵션으로 변환했을 때에는 결과값이 다를 수 있습니다.
A13: 전체노임 적용율(%)(일위대가) | B13: 90 | C13: 1 | D13: =$B$13/100 -> 0.9 | E13: 5
A20: *(그룹별 자재 단가 추가 할증)* | B20: 적용율(%) | D20: 적용율(%)/100
A21: Cable(CAB) 할증(%) | B21: =B11 -> 100 | D21: =$B$21/100 -> 1
A22: Wire (WIR) 할증(%) | B22: =B11 -> 100 | D22: =$B$22/100 -> 1
A23: Pipe (PIP) 할증(%) | B23: =B11 -> 100 | D23: =$B$23/100 -> 1
A24: 제 4그룹 할증(%) | B24: =B11 -> 100 | D24: =$B$24/100 -> 1
A25: 제 5그룹 할증(%) | B25: =B11 -> 100 | D25: =$B$25/100 -> 1
A30: *(그룹별 노임 추가 할증)* | B30: 적용율(%) | C30: 자동부속재(전기) | D30: 자동부속재(통신)
A31: 배관부속재(%) | B31: 15 | C31: 15 | D31: 20
A32: CD관부속재(%) | B32: 40 | C32: 40 | D32: 40
A33: 소모잡자재(%) | B33: 2 | H33: 본 파일은 이지테크에서 2번 옵션으로 만들었습니다.
A34: 방폭할증(%)
A35: 고소할증(%) | B35: 2
A36: 공구손료(%) | B36: 3
A40: *(공종별 노임 적용율(%))* | B40: 적용율(%) | C40: 소수자릿수
A41: 1.냉난방전기설비공사 | B41: 100 | C41: 3
A42: 2.전열설비공사 | B42: 100 | C42: 3
A43: 3.조명설비공사 | B43: 100 | C43: 3
