Workbook

Sheet 원가계산서
A1: 공 사 명 | C1: =공종별집계표!A2 -> [ 대전 디자인 진흥원 공간구성 리모델링공사 ]
A2: 설계 금액 | C2: ="일금"&NUMBERSTRING(E2,1)&"원정" -> 일금영원정 | E2: =E3+E4+E5 -> 0
C3: 도급금액 | E3: =D35 -> 0
C4: 도급자관급자재대 | E4: =D36 -> 0
C5: 관급자관급자재대 | E5: =D37 -> 0
A6: 비 목 | D6: 금 액 | E6: 구 성 비 | I6: 비 고
A7: 순 공 사 비 | B7: 재 료 비 | C7: 직 접 재 료 비 | D7: =공종별집계표!F5 -> 0
C8: 간 접 재 료 비 | D8: 0
C9: 작업설, 부산물(△) | D9: 0
C10: [ 소 계 ] | D10: =D7-D9 -> 0
B11: 노 무 비 | C11: 직 접 노 무 비 | D11: =공종별집계표!H5 -> 0
C12: 간 접 노 무 비 | D12: =ROUNDDOWN(D11*F12,0) -> 0 | E12: 직접노무비 * | F12: 0.08
C13: [ 소 계 ] | D13: =SUM(D11:D12) -> 0
B14: 경 비 | C14: 운 반 비 | D14: 0
C15: 기계경비(산출경비) | D15: =공종별집계표!J5 -> 0
C16: 산 재 보 험 료 | D16: =ROUNDDOWN(D13*F16,0) -> 0 | E16: 노무비 * | F16: 0.0373
C17: 고 용 보 험 료 | D17: =ROUNDDOWN(D13*F17,0) -> 0 | E17: 노무비 * | F17: 0.0087
C18: 건 강 보 험 료 | D18: =ROUNDDOWN((D11)*F18,0) -> 0 | E18: 직접노무비 * | F18: 0.03335
C19: 연 금 보 험 료 | D19: =ROUNDDOWN((D11)*F19,0) -> 0 | E19: 직접노무비 * | F19: 0.045
C20: 노인장기요양보험료 | D20: =ROUNDDOWN((D18)*F20,0) -> 0 | E20: 건강보험료 | F20: 0.1025
C21: 퇴직 공제 부금비 | D21: =ROUNDDOWN((D11)*F21,0) -> 0 | E21: 직접노무비 * | F21: 0.023
C22: 산 업 안 전 관 리 비 | D22: =ROUNDDOWN((D7+D11+L36)*F22,0) -> 0 | E22: (재료비+직노+도급자관급) *요율 | F22: 0.0293
C23: 기 타 경 비 | D23: =ROUNDDOWN((D10+D13)*F23,0) -> 0 | E23: (재료비+노무비) * | F23: 0.056
C24: 환 경 보 전 비 | D24: =ROUNDDOWN((D10+D11+D15)*F24,0) -> 0 | E24: (재료비+직노+산출경비)* | F24: 0.003
C25: 건설하도급대금지급보증서발급수수료 | D25: =ROUNDDOWN((D10+D11+D15)*F25,0) -> 0 | E25: (재료비+직노+산출경비)* | F25: 0.00081
C26: 건설기계대여금지급보증서발급수수료 | D26: =ROUNDDOWN((D10+D11+D15)*F26,0) -> 0 | E26: (재료비+직노+산출경비)* | F26: 0.0007
C27: [ 소 계 ] | D27: =SUM(D14:D26) -> 0
A28: 계 | D28: =D10+D13+D27 -> 0
A29: 일 반 관 리 비 | D29: =ROUNDDOWN(D28*F29,0) -> 0 | E29: 계 * | F29: 0.06
A30: 이 윤 | D30: =ROUNDDOWN((D13+D27+D29)*F30,0) -> 0 | E30: (노무비+경비+일반관리비) * | F30: 0.15
A31: 건 설 폐 기 물 처 리 비 | D31: 0
A32: 지 정 폐 기 물 처 리 비 | D32: 0
A33: 공 급 가 액 | D33: =SUM(D28:D32) -> 0
A34: 부 가 가 치 세 | D34: =ROUNDDOWN(D33*F34,0) -> 0 | E34: 공급가액 * | F34: 0.1
A35: 도 급 액 | D35: =INT((D33+D34)/1000)*1000 -> 0
A36: 도 급 자 관 급 자 재 대 | D36: =ROUNDUP(공종별집계표!L22,-3) -> 0 | E36: 산업안전관리비 적용금액 :
A37: 관 급 자 관 급 자 재 대 | D37: =공종별집계표!L27 -> 0
A38: 총 공 사 비 | D38: =D35+D36+D37 -> 0

Sheet 공종별집계표
A1: 공 종 별 집 계 표
A2: [ 대전 디자인 진흥원 공간구성 리모델링공사 ]
A3: 품 명 | B3: 규 격 | C3: 단위 | D3: 수량 | E3: 재 료 비 | G3: 노 무 비 | I3: 경 비 | K3: 합 계 | M3: 비 고 | N3: 공종코드 | O3: 변수 | P3: 상위공종 | Q3: 공종구분 | R3: 공종레벨 | S3: 공종소계 | T3: 원가계산서 연결금액
E4: 단 가 | F4: 금 액 | G4: 단 가 | H4: 금 액 | I4: 단 가 | J4: 금 액 | K4: 단 가 | L4: 금 액
A5: 01 대전 디자인 진흥원 공간구성 인테리어공사 | D5: 1 | E5: =F6+F24 -> 0 | F5: =E5*D5 -> 0 | G5: =H6+H24 -> 0 | H5: =G5*D5 -> 0 | I5: =J6+J24 -> 0 | J5: =I5*D5 -> 0 | K5: =E5+G5+I5 -> 0 | L5: =F5+H5+J5 -> 0 | N5: 01 | R5: 1
A6: 0101 01.건 축 공 사 | D6: 1 | E6: =F7+F8+F9+F10+F11+F12+F13+F14+F15+F16+F17+F18+F19+F20+F21 -> 0 | F6: =E6*D6 -> 0 | G6: =H7+H8+H9+H10+H11+H12+H13+H14+H15+H16+H17+H18+H19+H20+H21 -> 0 | H6: =G6*D6 -> 0 | I6: =J7+J8+J9+J10+J11+J12+J13+J14+J15+J16+J17+J18+J19+J20+J21 -> 0 | J6: =I6*D6 -> 0 | K6: =E6+G6+I6 -> 0 | L6: =F6+H6+J6 -> 0 | N6: 0101 | P6: 01 | R6: 2
A7: 010101 가 설 공 사 | D7: 1 | E7: =공종별내역서!F27 -> 0 | F7: =E7*D7 -> 0 | G7: =공종별내역서!H27 -> 0 | H7: =G7*D7 -> 0 | I7: =공종별내역서!J27 -> 0 | J7: =I7*D7 -> 0 | K7: =E7+G7+I7 -> 0 | L7: =F7+H7+J7 -> 0 | N7: 010101 | P7: 0101 | R7: 3
A8: 010102 조 적 공 사 | D8: 1 | E8: =공종별내역서!F51 -> 0 | F8: =E8*D8 -> 0 | G8: =공종별내역서!H51 -> 0 | H8: =G8*D8 -> 0 | I8: =공종별내역서!J51 -> 0 | J8: =I8*D8 -> 0 | K8: =E8+G8+I8 -> 0 | L8: =F8+H8+J8 -> 0 | N8: 010102 | P8: 0101 | R8: 3
A9: 010103 타 일 공 사 | D9: 1 | E9: =공종별내역서!F75 -> 0 | F9: =E9*D9 -> 0 | G9: =공종별내역서!H75 -> 0 | H9: =G9*D9 -> 0 | I9: =공종별내역서!J75 -> 0 | J9: =I9*D9 -> 0 | K9: =E9+G9+I9 -> 0 | L9: =F9+H9+J9 -> 0 | N9: 010103 | P9: 0101 | R9: 3
A10: 010104 목공사및수장공사 | D10: 1 | E10: =공종별내역서!F123 -> 0 | F10: =E10*D10 -> 0 | G10: =공종별내역서!H123 -> 0 | H10: =G10*D10 -> 0 | I10: =공종별내역서!J123 -> 0 | J10: =I10*D10 -> 0 | K10: =E10+G10+I10 -> 0 | L10: =F10+H10+J10 -> 0 | N10: 010104 | P10: 0101 | R10: 3
A11: 010105 방 수 공 사 | D11: 1 | E11: =공종별내역서!F147 -> 0 | F11: =E11*D11 -> 0 | G11: =공종별내역서!H147 -> 0 | H11: =G11*D11 -> 0 | I11: =공종별내역서!J147 -> 0 | J11: =I11*D11 -> 0 | K11: =E11+G11+I11 -> 0 | L11: =F11+H11+J11 -> 0 | N11: 010105 | P11: 0101 | R11: 3
A12: 010106 미 장 공 사 | D12: 1 | E12: =공종별내역서!F171 -> 0 | F12: =E12*D12 -> 0 | G12: =공종별내역서!H171 -> 0 | H12: =G12*D12 -> 0 | I12: =공종별내역서!J171 -> 0 | J12: =I12*D12 -> 0 | K12: =E12+G12+I12 -> 0 | L12: =F12+H12+J12 -> 0 | N12: 010106 | P12: 0101 | R12: 3
A13: 010107 창 호 공 사 | D13: 1 | E13: =공종별내역서!F195 -> 0 | F13: =E13*D13 -> 0 | G13: =공종별내역서!H195 -> 0 | H13: =G13*D13 -> 0 | I13: =공종별내역서!J195 -> 0 | J13: =I13*D13 -> 0 | K13: =E13+G13+I13 -> 0 | L13: =F13+H13+J13 -> 0 | N13: 010107 | P13: 0101 | R13: 3
A14: 010108 유 리 공 사 | D14: 1 | E14: =공종별내역서!F219 -> 0 | F14: =E14*D14 -> 0 | G14: =공종별내역서!H219 -> 0 | H14: =G14*D14 -> 0 | I14: =공종별내역서!J219 -> 0 | J14: =I14*D14 -> 0 | K14: =E14+G14+I14 -> 0 | L14: =F14+H14+J14 -> 0 | N14: 010108 | P14: 0101 | R14: 3
A15: 010109 칠 공 사 | D15: 1 | E15: =공종별내역서!F243 -> 0 | F15: =E15*D15 -> 0 | G15: =공종별내역서!H243 -> 0 | H15: =G15*D15 -> 0 | I15: =공종별내역서!J243 -> 0 | J15: =I15*D15 -> 0 | K15: =E15+G15+I15 -> 0 | L15: =F15+H15+J15 -> 0 | N15: 010109 | P15: 0101 | R15: 3
A16: 010110 가 구 공 사 | D16: 1 | E16: =공종별내역서!F267 -> 0 | F16: =E16*D16 -> 0 | G16: =공종별내역서!H267 -> 0 | H16: =G16*D16 -> 0 | I16: =공종별내역서!J267 -> 0 | J16: =I16*D16 -> 0 | K16: =E16+G16+I16 -> 0 | L16: =F16+H16+J16 -> 0 | N16: 010110 | P16: 0101 | R16: 3
A17: 010111 사 인 공 사 | D17: 1 | E17: =공종별내역서!F291 -> 0 | F17: =E17*D17 -> 0 | G17: =공종별내역서!H291 -> 0 | H17: =G17*D17 -> 0 | I17: =공종별내역서!J291 -> 0 | J17: =I17*D17 -> 0 | K17: =E17+G17+I17 -> 0 | L17: =F17+H17+J17 -> 0 | N17: 010111 | P17: 0101 | R17: 3
A18: 010112 조 경 공 사 | D18: 1 | E18: =공종별내역서!F315 -> 0 | F18: =E18*D18 -> 0 | G18: =공종별내역서!H315 -> 0 | H18: =G18*D18 -> 0 | I18: =공종별내역서!J315 -> 0 | J18: =I18*D18 -> 0 | K18: =E18+G18+I18 -> 0 | L18: =F18+H18+J18 -> 0 | N18: 010112 | P18: 0101 | R18: 3
A19: 010113 골재대및자재비 | D19: 1 | E19: =공종별내역서!F339 -> 0 | F19: =E19*D19 -> 0 | G19: =공종별내역서!H339 -> 0 | H19: =G19*D19 -> 0 | I19: =공종별내역서!J339 -> 0 | J19: =I19*D19 -> 0 | K19: =E19+G19+I19 -> 0 | L19: =F19+H19+J19 -> 0 | N19: 010113 | P19: 0101 | R19: 3
A20: 010114 운 반 비 | D20: 1 | E20: =공종별내역서!F363 -> 0 | F20: =E20*D20 -> 0 | G20: =공종별내역서!H363 -> 0 | H20: =G20*D20 -> 0 | I20: =공종별내역서!J363 -> 0 | J20: =I20*D20 -> 0 | K20: =E20+G20+I20 -> 0 | L20: =F20+H20+J20 -> 0 | N20: 010114 | P20: 0101 | R20: 3
A21: 010115 철 거 공 사 | D21: 1 | E21: =공종별내역서!F387 -> 0 | F21: =E21*D21 -> 0 | G21: =공종별내역서!H387 -> 0 | H21: =G21*D21 -> 0 | I21: =공종별내역서!J387 -> 0 | J21: =I21*D21 -> 0 | K21: =E21+G21+I21 -> 0 | L21: =F21+H21+J21 -> 0 | N21: 010115 | P21: 0101 | R21: 3
A22: 0102 도급자관급자재 | D22: 1 | E22: =F23 -> 0 | F22: =E22*D22 -> 0 | G22: =H23 -> 0 | H22: =G22*D22 -> 0 | I22: =J23 -> 0 | J22: =I22*D22 -> 0 | K22: =E22+G22+I22 -> 0 | L22: =F22+H22+J22 -> 0 | N22: 0102 | Q22: 3 | R22: 2 | T22: =L22*1 -> 0
A23: 010201 합 성 목 재 | D23: 1 | E23: =공종별내역서!F411 -> 0 | F23: =E23*D23 -> 0 | G23: =공종별내역서!H411 -> 0 | H23: =G23*D23 -> 0 | I23: =공종별내역서!J411 -> 0 | J23: =I23*D23 -> 0 | K23: =E23+G23+I23 -> 0 | L23: =F23+H23+J23 -> 0 | N23: 010201 | P23: 0102 | R23: 3
A24: 0103 02.기계설비공사 | D24: 1 | E24: =F25 -> 0 | F24: =E24*D24 -> 0 | G24: =H25 -> 0 | H24: =G24*D24 -> 0 | I24: =J25 -> 0 | J24: =I24*D24 -> 0 | K24: =E24+G24+I24 -> 0 | L24: =F24+H24+J24 -> 0 | N24: 0103 | P24: 01 | R24: 2
A25: 010301 기계설비공사 | D25: 1 | E25: =공종별내역서!F435 -> 0 | F25: =E25*D25 -> 0 | G25: =공종별내역서!H435 -> 0 | H25: =G25*D25 -> 0 | I25: =공종별내역서!J435 -> 0 | J25: =I25*D25 -> 0 | K25: =E25+G25+I25 -> 0 | L25: =F25+H25+J25 -> 0 | N25: 010301 | P25: 0103 | R25: 3
A26: =공종별내역서!A436 -> 010302 배기덕트공사 | D26: 1
A27: 010401 냉난방기설치공사 | D27: 1 | E27: =공종별내역서!F483 -> 0 | F27: =E27*D27 -> 0 | H27: =G27*D27 -> 0 | I27: =공종별내역서!J460 -> 0 | J27: =I27*D27 -> 0 | K27: =E27+G27+I27 -> 0 | L27: =F27+H27+J27 -> 0 | N27: 010301 | P27: 0103 | R27: 3
A28: [ 합 계 ] | F28: =F5 -> 0 | H28: =H5 -> 0 | J28: =J5 -> 0 | L28: =L5 -> 0

Sheet 공종별내역서
A1: [ 대전 디자인 진흥원 공간구성 리모델링공사 ]
A2: 품 명 | B2: 규 격 | C2: 단위 | D2: 수량 | E2: 재 료 비 | G2: 노 무 비 | I2: 경 비 | K2: 합 계 | M2: 비 고 | N2: 품목코드 | O2: 변수 | P2: 설정 | Q2: 공종코드 | R2: 일위 | S2: 단산 | T2: 자재 | U2: 손료적용 | V2: 손료저장 | W2: 적용율 | X2: JUK1 | Y2: JUK2 | Z2: JUK3 | AA2: JUK4 | AB2: JUK5 | AC2: JUK6 | AD2: JUK7 | AE2: JUK8 | AF2: JUK9 | AG2: JUK10 | AH2: JUK11 | AI2: JUK12 | AJ2: JUK13 | AK2: JUK14 | AL2: JUK15 | AM2: JUK16 | AN2: JUK17 | AO2: JUK18 | AP2: JUK19 | AQ2: JUK20 | AR2: 자재구분 | AS2: 공종구분 | AT2: 공종레벨 | AU2: 공종+자재 | AV2: 고유번호
E3: 단 가 | F3: 금 액 | G3: 단 가 | H3: 금 액 | I3: 단 가 | J3: 금 액 | K3: 단 가 | L3: 금 액
A4: 010101 가 설 공 사 | Q4: 010101
A5: 강관 조립말비계(이동식)설치 및 해체 | B5: 높이 2m, 3개월 | C5: 대 | D5: 4 | M5: 호표 1 | N5: 44822157AD4035565D605825C16A0 | Q5: 010101 | R5: T | S5: F | T5: F | AU5: 01010144822157AD4035565D605825C16A0 | AV5: 4
A6: 강관 조립말비계(이동식)설치 및 해체 | B6: 높이 4m, 3개월 | C6: 대 | D6: 2 | M6: 호표 2 | N6: 44822157AD4035565D60581B5AC6E | Q6: 010101 | R6: T | S6: F | T6: F | AU6: 01010144822157AD4035565D60581B5AC6E | AV6: 5
A7: 건축물 현장정리 | B7: 수선공사 | C7: M2 | D7: 709 | M7: 호표 3 | N7: 44822157F590365528DCB52F047F5 | Q7: 010101 | R7: T | S7: F | T7: F | AU7: 01010144822157F590365528DCB52F047F5 | AV7: 6
A8: 건축물보양 | B8: 바닥,판재 | C8: M2 | D8: 573 | M8: 호표 4 | N8: 44822157F5A03090AC27B5F3FA258 | Q8: 010101 | R8: T | S8: F | T8: F | AU8: 01010144822157F5A03090AC27B5F3FA258 | AV8: 7
A9: 트럭탑재형 크레인/자재운반용 | B9: 5ton | C9: 일 | D9: 3 | M9: 호표 5 | N9: 439E2B5D9F20359B6096CF33D53B67A27A5CED0 | Q9: 010101 | R9: T | S9: F | T9: F | AU9: 010101439E2B5D9F20359B6096CF33D53B67A27A5CED0 | AV9: 97
A27: [ 합 계 ] | N27: TOTAL
A28: 010102 조 적 공 사 | Q28: 010102
A29: 콘크리트벽돌 | B29: 190*57*90mm | C29: 매 | D29: 1404 | N29: 43AF225CB4A030CB2F22C0E9819E21AAC5DEE | Q29: 010102 | R29: F | S29: F | T29: T | AU29: 01010243AF225CB4A030CB2F22C0E9819E21AAC5DEE | AV29: 102
A30: 1.0B 벽돌쌓기 | B30: 3.6m 이하 | C30: 천매 | D30: 1.34 | M30: 호표 6 | N30: 4482265FCD103BBCCAF46B2EC05F4 | Q30: 010102 | R30: T | S30: F | T30: F | AU30: 0101024482265FCD103BBCCAF46B2EC05F4 | AV30: 111
A31: 벽돌운반 | B31: 인력, 2층 | C31: 천매 | D31: 1.34 | M31: 호표 7 | N31: 4482265FCD30369ABAA20A768D1EE | Q31: 010102 | R31: T | S31: F | T31: F | AU31: 0101024482265FCD30369ABAA20A768D1EE | AV31: 104
A51: [ 합 계 ] | N51: TOTAL
A52: 010103 타 일 공 사 | Q52: 010103
A53: 타일 붙임 / 접착 붙이기 | B53: 벽면,500*40*18T,벽돌타일 | C53: M2 | D53: 15 | M53: 호표 8 | N53: 44822D54D4403A910946FCFE1B6D1 | Q53: 010103 | R53: T | S53: F | T53: F | AU53: 01010344822D54D4403A910946FCFE1B6D1 | AV53: 93
A75: [ 합 계 ] | N75: TOTAL
A76: 010104 목공사및수장공사 | Q76: 010104
A77: 목재 마루널 깔기 | B77: T15원목마루 | C77: M2 | D77: 94 | M77: 호표 9 | N77: 4482295307303EDA2EB63931EC277 | Q77: 010104 | R77: T | S77: F | T77: F | AU77: 0101044482295307303EDA2EB63931EC277 | AV77: 17
A78: 내수합판 깔기 | B78: T12내수합판*1겹 | C78: M2 | D78: 94 | M78: 호표 10 | N78: 4482295307403F5BAA674C877B380 | Q78: 010104 | R78: T | S78: F | T78: F | AU78: 0101044482295307403F5BAA674C877B380 | AV78: 16
A79: 마루바탕틀 설치/1층로비 | B79: ㅁ-50*50*2.3@400 | C79: M2 | D79: 93 | M79: 호표 11 | N79: 4482295307303EBF40E543692F681 | Q79: 010104 | R79: T | S79: F | T79: F | AU79: 0101044482295307303EBF40E543692F681 | AV79: 18
A80: 마루바탕틀 설치/2층휴게공간 | B80: ㅁ-50*50*2.3@400+T20방진고무포함 | C80: M2 | D80: 120 | M80: 호표 12 | N80: 4482295307303EBF40E543692F683 | Q80: 010104 | R80: T | S80: F | T80: F | AU80: 0101044482295307303EBF40E543692F683 | AV80: 105
A81: 목재데크 설치[자재관급] | B81: T25*150,합성목재 | C81: M2 | D81: 120 | M81: 호표 13 | N81: 4482295307303EBF40E543692F686 | Q81: 010104 | R81: T | S81: F | T81: F | AU81: 0101044482295307303EBF40E543692F686 | AV81: 132
A82: DRY-WALL | B82: ㅁ-30미송각재+T9.5석고*1겹 | C82: M2 | D82: 42 | M82: 호표 14 | N82: 448229533CE031C50C7F889B86643 | Q82: 010104 | R82: T | S82: F | T82: F | AU82: 010104448229533CE031C50C7F889B86643 | AV82: 19
A83: DRY-WALL | B83: ㅁ-30미송각재+T9.5석고*2겹 | C83: M2 | D83: 29 | M83: 호표 15 | N83: 448229533CE031C50C7F889B86640 | Q83: 010104 | R83: T | S83: F | T83: F | AU83: 010104448229533CE031C50C7F889B86640 | AV83: 20
A84: DRY-WALL/기둥 | B84: ㅁ-50*2.3T각관틀+T9.5석고*1겹 | C84: M2 | D84: 43 | M84: 호표 16 | N84: 448229533CE031C50C7F889B86641 | Q84: 010104 | R84: T | S84: F | T84: F | AU84: 010104448229533CE031C50C7F889B86641 | AV84: 21
A85: DRY-WALL/파티션 | B85: ㅁ-50*2.3T각관틀+T9합판+T9MDF위필름지,양면 | C85: M2 | D85: 78 | M85: 호표 17 | N85: 448229533CE031C50C7F889B86647 | Q85: 010104 | R85: T | S85: F | T85: F | AU85: 010104448229533CE031C50C7F889B86647 | AV85: 22
A86: DRY-WALL/휴게공간 | B86: ㅁ-50*2.3T각관틀+T30합성목재 | C86: M2 | D86: 3 | M86: 호표 18 | N86: 448229533CE031C50C7F889B86644 | Q86: 010104 | R86: T | S86: F | T86: F | AU86: 010104448229533CE031C50C7F889B86644 | AV86: 108
A87: DRY-WALL/회의실#1 | B87: C-STUD45+T9합판*1겹,한면 | C87: M2 | D87: 12 | M87: 호표 19 | N87: 448229533CE031C50C7F889B86645 | Q87: 010104 | R87: T | S87: F | T87: F | AU87: 010104448229533CE031C50C7F889B86645 | AV87: 23
A88: DRY-WALL/공유오피스 | B88: C-STUD45+TT9.5석고*2겹,한면 | C88: M2 | D88: 116 | M88: 호표 20 | N88: 448229533CE031C50C7F889B8664B | Q88: 010104 | R88: T | S88: F | T88: F | AU88: 010104448229533CE031C50C7F889B8664B | AV88: 24
... A102: 화이트보드 설치 | B102: L2400*H1200 | C102: EA | D102: 1 | M102: 시공도 | N102: 43D421589BD032ED46F3F9D8260AAFF9B4675 | Q102: 010104 | R102: F | S102: F | T102: T | AU102: 01010443D421589BD032ED46F3F9D8260AAFF9B4675 | AV102: 80
A123: [ 합 계 ] | N123: TOTAL
A124: 010105 방 수 공 사 | Q124: 010105
A125: 바탕만들기+우레탄방수(비노출) | B125: 바닥 3mm | C125: M2 | D125: 16 | M125: 호표 31 | N125: 4482285C8B70393EC5351E39E6277 | Q125: 010105 | R125: T | S125: F | T125: F | AU125: 0101054482285C8B70393EC5351E39E6277 | AV125: 130
A126: 바탕만들기+우레탄방수(비노출) | B126: 벽체 1mm | C126: M2 | D126: 19 | M126: 호표 32 | N126: 4482285C8B70393EC5351E39E6150 | Q126: 010105 | R126: T | S126: F | T126: F | AU126: 0101054482285C8B70393EC5351E39E6150 | AV126: 131
A127: 배수판설치/조경용 | B127: 300*300*35mm | C127: M2 | D127: 16 | M127: 호표 33 | N127: 4482285C68B03437B4D1C00DB5769 | Q127: 010105 | R127: T | S127: F | T127: F | AU127: 0101054482285C68B03437B4D1C00DB5769 | AV127: 118
A128: 방근시트 붙임 | B128: 바닥 | C128: M2 | D128: 16 | M128: 호표 34 | N128: 4482285C95C036E54B81F766BAF9F | Q128: 010105 | R128: T | S128: F | T128: F | AU128: 0101054482285C95C036E54B81F766BAF9F | AV128: 115
A147: [ 합 계 ] | N147: TOTAL
A148: 010106 미 장 공 사 | Q148: 010106
A149: 모르타르 바름 | B149: 내벽, 15mm | C149: M2 | D149: 18 | M149: 호표 35 | N149: 4482275E5D9037AD2C59EB1E67057 | Q149: 010106 | R149: T | S149: F | T149: F | AU149: 0101064482275E5D9037AD2C59EB1E67057 | AV149: 119
A171: [ 합 계 ] | N171: TOTAL
A172: 010107 창 호 공 사 | Q172: 010107
A173: 플로어힌지 | B173: KS3호, 105kg, 강화유리문(K-8300N) | C173: 조 | D173: 4 | N173: 43AF235D08B039610557509C71C55428E17C5 | Q173: 010107 | R173: F | S173: F | T173: T | AU173: 01010743AF235D08B039610557509C71C55428E17C5 | AV173: 38
A174: 플로어힌지 설치 | B174: 재료비 별도 | C174: 개소 | D174: 4 | M174: 호표 36 | N174: 44822C560E103B84A9C41AFB5C31F | Q174: 010107 | R174: T | S174: F | T174: F | AU174: 01010744822C560E103B84A9C41AFB5C31F | AV174: 56
A175: 도어힌지 | B175: 황동, 베어링2개, 101.6*2.7mm | C175: 개 | D175: 21 | N175: 43AF235D08B039610557509C71C50C88B173E | Q175: 010107 | R175: F | S175: F | T175: T | AU175: 01010743AF235D08B039610557509C71C50C88B173E | AV175: 37
A176: 도어핸들 | B176: LEVER, (주거용-침실) | C176: 조 | D176: 7 | N176: 43AF235D08B03961C061ECCBF4611DB17BACF | Q176: 010107 | R176: F | S176: F | T176: T | AU176: 01010743AF235D08B03961C061ECCBF4611DB17BACF | AV176: 40
A177: 도어록 설치 / 일반도어록 목재창호 | B177: 재료비 별도 | C177: 개소 | D177: 7 | M177: 호표 37 | N177: 44822C560E20343F6E3C2B9C0CB09 | Q177: 010107 | R177: T | S177: F | T177: F | AU177: 01010744822C560E20343F6E3C2B9C0CB09 | AV177: 54
A178: 손잡이 | B178: SST'L손잡이 | C178: 개 | D178: 4 | N178: 43AF235D08B03961C061ECCBD9B0DED02E4CA | Q178: 010107 | R178: F | S178: F | T178: T | AU178: 01010743AF235D08B03961C061ECCBD9B0DED02E4CA | AV178: 39
A179: 도어록 설치 / 일반도어록 강재창호 | B179: 재료비 별도 | C179: 개소 | D179: 4 | M179: 호표 38 | N179: 44822C560E20343F6E3C193DF39F7 | Q179: 010107 | R179: T | S179: F | T179: F | AU179: 01010744822C560E20343F6E3C193DF39F7 | AV179: 55
A180: 강화유리문(손보호) | B180: 12*800*2400mm,투명 | C180: 개 | D180: 4 | M180: 시공비포함 | N180: 43AF225CB4E03E9F409CEDC684FAE4EE65A24 | Q180: 010107 | R180: F | S180: F | T180: T | AU180: 01010743AF225CB4E03E9F409CEDC684FAE4EE65A24 | AV180: 83
A181: GAW01[01.디자인징흥원] | B181: 0.726 x 3.000 = 2.178 | C181: EA | D181: 1 | M181: 호표 39 | N181: 44822C567120376E47AA61A2D5BBB | Q181: 010107 | R181: T | S181: F | T181: F | AU181: 01010744822C567120376E47AA61A2D5BBB | AV181: 43
A182: GAW02[01.디자인징흥원] | B182: 2.390 x 3.000 = 7.170 | C182: EA | D182: 1 | M182: 호표 40 | N182: 44822C567120376E47AA61A2D5BB9 | Q182: 010107 | R182: T | S182: F | T182: F | AU182: 01010744822C567120376E47AA61A2D5BB9 | AV182: 44
A183: GAW03[01.디자인징흥원] | B183: 4.064 x 3.000 = 12.192 | C183: EA | D183: 1 | M183: 호표 41 | N183: 44822C567120376E47AA61A2D5BBF | Q183: 010107 | R183: T | S183: F | T183: F | AU183: 01010744822C567120376E47AA61A2D5BBF | AV183: 45
A184: GAW04[01.디자인징흥원] | B184: 3.159 x 3.000 = 9.477 | C184: EA | D184: 1 | M184: 호표 42 | N184: 44822C567120376E47AA61A2D5BBD | Q184: 010107 | R184: T | S184: F | T184: F | AU184: 01010744822C567120376E47AA61A2D5BBD | AV184: 46
A185: GAW05[01.디자인징흥원] | B185: 2.521 x 3.000 = 7.563 | C185: EA | D185: 1 | M185: 호표 43 | N185: 44822C567120376E47AA61A2D5BB3 | Q185: 010107 | R185: T | S185: F | T185: F | AU185: 01010744822C567120376E47AA61A2D5BB3 | AV185: 47
A186: GAW06[01.디자인징흥원] | B186: 2.706 x 3.000 = 8.118 | C186: EA | D186: 1 | M186: 호표 44 | N186: 44822C567120376E47AA61A2D5A92 | Q186: 010107 | R186: T | S186: F | T186: F | AU186: 01010744822C567120376E47AA61A2D5A92 | AV186: 48
A187: GAW07[01.디자인징흥원] | B187: 0.190 x 3.000 = 0.570 | C187: EA | D187: 1 | M187: 호표 45 | N187: 44822C567120376E47AA61A2D5A90 | Q187: 010107 | R187: T | S187: F | T187: F | AU187: 01010744822C567120376E47AA61A2D5A90 | AV187: 49
A188: SSD01[01.디자인징흥원] | B188: 0.800 x 2.700 = 2.160 | C188: EA | D188: 4 | M188: 호표 46 | N188: 44822C567120376E47AA61A2D5A96 | Q188: 010107 | R188: T | S188: F | T188: F | AU188: 01010744822C567120376E47AA61A2D5A96 | AV188: 50
A189: SSD02[01.디자인징흥원] | B189: 2.510 x 2.700 = 6.777 | C189: EA | D189: 1 | M189: 호표 47 | N189: 44822C567120376E47AA61A2D5A94 | Q189: 010107 | R189: T | S189: F | T189: F | AU189: 01010744822C567120376E47AA61A2D5A94 | AV189: 51
A190: SSD03[01.디자인징흥원] | B190: 9.200 x 2.900 = 26.680 | C190: EA | D190: 1 | M190: 호표 48 | N190: 44822C567120376E47AA61A2D5A9A | Q190: 010107 | R190: T | S190: F | T190: F | AU190: 01010744822C567120376E47AA61A2D5A9A | AV190: 52
A191: WD01[01.디자인징흥원] | B191: 1.260 x 3.000 = 3.780 | C191: EA | D191: 7 | M191: 호표 49 | N191: 44822C567120376E47AA61A2D598D | Q191: 010107 | R191: T | S191: F | T191: F | AU191: 01010744822C567120376E47AA61A2D598D | AV191: 53
A195: [ 합 계 ] | N195: TOTAL
A196: 010108 유 리 공 사 | Q196: 010108
A197: 강화유리 | B197: 투명, 5mm | C197: M2 | D197: 69 | N197: 43AF225CB4E03E9F637CC2E7AAC7F89178025 | Q197: 010108 | R197: F | S197: F | T197: T | AU197: 01010843AF225CB4E03E9F637CC2E7AAC7F89178025 | AV197: 36
A198: 창호유리설치 / 판유리 | B198: 유리두께 5mm 이하 | C198: M2 | D198: 69 | M198: 호표 50 | N198: 44822C5618B03F7C00DC3F7173E9B | Q198: 010108 | R198: T | S198: F | T198: F | AU198: 01010844822C5618B03F7C00DC3F7173E9B | AV198: 58
A199: 유리주위 코킹 | B199: 5*5, 실리콘 | C199: M | D199: 532 | M199: 호표 51 | N199: 4482285CD3A03F3B036484D463A73 | Q199: 010108 | R199: T | S199: F | T199: F | AU199: 0101084482285CD3A03F3B036484D463A73 | AV199: 41
A200: 수밀코킹(실리콘) | B200: 삼각, 10mm, 창호주위 | C200: M | D200: 363 | M200: 호표 52 | N200: 4482285CD3B039BC1B099AFEFC7A8 | Q200: 010108 | R200: T | S200: F | T200: F | AU200: 0101084482285CD3B039BC1B099AFEFC7A8 | AV200: 42
A201: 창호주위 발포우레탄 충전 | C201: M | D201: 182 | M201: 호표 53 | N201: 44822C560E703C23CF07D770F693D | Q201: 010108 | R201: T | S201: F | T201: F | AU201: 01010844822C560E703C23CF07D770F693D | AV201: 81
A219: [ 합 계 ] | N219: TOTAL
A220: 010109 칠 공 사 | Q220: 010109
A221: 바탕만들기+수성페인트 롤러칠 | B221: 내부, 2회, con'c·mortar면 | C221: M2 | D221: 187 | M221: 호표 54 | N221: 44822E5B045038D3C2C819BE64F86 | Q221: 010109 | R221: T | S221: F | T221: F | AU221: 01010944822E5B045038D3C2C819BE64F86 | AV221: 61
A222: 바탕만들기+수성페인트 롤러칠 | B222: 내부, 2회, 석고보드면 올퍼티 | C222: M2 | D222: 250 | M222: 호표 55 | N222: 44822E5B045038D3C2C819F41E02C | Q222: 010109 | R222: T | S222: F | T222: F | AU222: 01010944822E5B045038D3C2C819F41E02C | AV222: 62
A223: 유성페인트(뿜칠)/도어 | B223: 목재면, 3회 | C223: M2 | D223: 29 | M223: 호표 56 | N223: 44822E5B16B03F2CEEA9F8B54A77C | Q223: 010109 | R223: T | S223: F | T223: F | AU223: 01010944822E5B16B03F2CEEA9F8B54A77C | AV223: 60
A243: [ 합 계 ] | N243: TOTAL
A244: 010110 가 구 공 사 | Q244: 010110
A245: 1층붙박이의자1 제작설치/D2200*H950 | B245: ㅁ-50*50각관틀+T12합판*2겹위필름지+T18타일 | C245: EA | D245: 1 | M245: 호표 57 | N245: 448320582B303CFD7189D86F0E977 | Q245: 010110 | R245: T | S245: F | T245: F | AU245: 010110448320582B303CFD7189D86F0E977 | AV245: 66
A246: 1층책장각관틀 제작설치/L11400*H5200 | B246: ㅁ-50*50각관틀 | C246: EA | D246: 1 | M246: 호표 58 | N246: 448320582B303CFD7189D86F0E975 | Q246: 010110 | R246: T | S246: F | T246: F | AU246: 010110448320582B303CFD7189D86F0E975 | AV246: 67
A247: 1층바테이블 제작설치/L4200*W500*H2900 | B247: ㅁ-50*50각관틀+1.2T갈바위도장 | C247: EA | D247: 1 | M247: 호표 59 | N247: 448320582B303CFD7189D86F0E97B | Q247: 010110 | R247: T | S247: F | T247: F | AU247: 010110448320582B303CFD7189D86F0E97B | AV247: 68
A248: 1층탕비공간 제작설치/L3960*H3000 | B248: ㅁ-30*30미송각재+T9.5석고+T9MDF위도장 | C248: EA | D248: 1 | M248: 호표 60 | N248: 448320582B303CFD7189D86F0E86D | Q248: 010110 | R248: T | S248: F | T248: F | AU248: 010110448320582B303CFD7189D86F0E86D | AV248: 69
A249: 1층붙박이의자2 제작설치/L6400*H3600 | B249: ㅁ-30*30미송각재+T9.5석고+T9MDF위필름지 | C249: EA | D249: 1 | M249: 호표 61 | N249: 448320582B303CFD7189D86F0E86F | Q249: 010110 | R249: T | S249: F | T249: F | AU249: 010110448320582B303CFD7189D86F0E86F | AV249: 70
A250: 1층벽면전시 제작설치/L6286*H3600 | B250: ㅁ-30*30미송각재+T9.5석고+T9MDF위필름지 | C250: EA | D250: 1 | M250: 호표 62 | N250: 448320582B303CFD7189D86F0E869 | Q250: 010110 | R250: T | S250: F | T250: F | AU250: 010110448320582B303CFD7189D86F0E869 | AV250: 71
A251: 3층붙박이의자1 제작설치/L7210*H900 | B251: ㅁ-50*50각관틀+T12합판+T18자작합판위투명락카 | C251: EA | D251: 1 | M251: 호표 63 | N251: 448320582B303CFD7189D86F0E86B | Q251: 010110 | R251: T | S251: F | T251: F | AU251: 010110448320582B303CFD7189D86F0E86B | AV251: 72
A252: 3층붙박이의자2 제작설치/L5807*H900 | B252: ㅁ-50*50각관틀+T12합판+T18타일+T50쿠션 | C252: EA | D252: 1 | M252: 호표 64 | N252: 448320582B303CFD7189D86F0E865 | Q252: 010110 | R252: T | S252: F | T252: F | AU252: 010110448320582B303CFD7189D86F0E865 | AV252: 73
A253: 3층바테이블 제작설치/L2900*H100 | B253: ㅁ-50*50각관틀+T12합판*2겹위필름지 | C253: EA | D253: 1 | M253: 호표 65 | N253: 448320582B303CFD7189D86F0EB21 | Q253: 010110 | R253: T | S253: F | T253: F | AU253: 010110448320582B303CFD7189D86F0EB21 | AV253: 74
A254: 3층붙박이장 제작설치/L5897*H2700 | B254: ㅁ-30*30미송각재+T9.5석고+T9MDF위도장or필름지 | C254: EA | D254: 1 | M254: 호표 66 | N254: 448320582B303CFD7189D86F0EB23 | Q254: 010110 | R254: T | S254: F | T254: F | AU254: 010110448320582B303CFD7189D86F0EB23 | AV254: 75
A255: 4층파티션 제작설치/L4960*W700*H4000 | B255: ㅁ-50*50각관틀+T9합판*1겹+T9템버보드+타공망 | C255: EA | D255: 1 | M255: 호표 67 | N255: 448320582B303CFD7189D86F0EB25 | Q255: 010110 | R255: T | S255: F | T255: F | AU255: 010110448320582B303CFD7189D86F0EB25 | AV255: 76
A256: 2층붙박이의자 제작설치/W500*H450 | B256: ㅁ-50*50각관틀+T30합성목재 | C256: M | D256: 21 | M256: 호표 68 | N256: 448320582B303CFD7189D86F0EA19 | Q256: 010110 | R256: T | S256: F | T256: F | AU256: 010110448320582B303CFD7189D86F0EA19 | AV256: 109
... A264: 자작나무책장 | B264: L(9000+1800+1800)*H5200 | C264: EA | D264: 1 | M264: 견적 | N264: 45302B5F35F03C7C8E458D3F7A7A83DD0D482 | Q264: 010110 | R264: F | S264: F | T264: T | AU264: 01011045302B5F35F03C7C8E458D3F7A7A83DD0D482 | AV264: 100
A267: [ 합 계 ] | N267: TOTAL
A268: 010111 사 인 공 사 | Q268: 010111
A269: 일체형 에폭시 채널 | B269: 762MM | C269: EA | D269: 4 | M269: 견적 | N269: 45302B5F35F03C7C8E458D3F7A7A83DD0D480 | Q269: 010111 | R269: F | S269: F | T269: T | AU269: 01011145302B5F35F03C7C8E458D3F7A7A83DD0D480 | AV269: 137
A270: (220V 전환장치) / 타이머 | C270: EA | D270: 1 | M270: 견적 | N270: 45302B5F35F03C7C8E458D3F7A7A83DD0D481 | Q270: 010111 | R270: F | S270: F | T270: T | AU270: 01011145302B5F35F03C7C8E458D3F7A7A83DD0D481 | AV270: 138
A271: 아크릴 스카시 (5T) 도장마감 | B271: H50 | C271: EA | D271: 33 | M271: 견적 | N271: 45302B5F35F03C7C8E458D3F7A7A83DD0D486 | Q271: 010111 | R271: F | S271: F | T271: T | AU271: 01011145302B5F35F03C7C8E458D3F7A7A83DD0D486 | AV271: 139
A272: 아크릴 5T+2T 2도 도장(비조명) | B272: H300 | C272: EA | D272: 33 | M272: 견적 | N272: 45302B5F35F03C7C8E458D3F7A7A83DD0D487 | Q272: 010111 | R272: F | S272: F | T272: T | AU272: 01011145302B5F35F03C7C8E458D3F7A7A83DD0D487 | AV272: 140
A273: 아크릴 유도사인 + 시트컷팅 | B273: 100*1500 | C273: EA | D273: 7 | M273: 견적 | N273: 45302B5F35F03C7C8E458D3F7A7A83DD0D484 | Q273: 010111 | R273: F | S273: F | T273: T | AU273: 01011145302B5F35F03C7C8E458D3F7A7A83DD0D484 | AV273: 141
A274: 1-9호실 (5.6호실 추가) 아크릴작업 | B274: 다보+시트 | C274: EA | D274: 11 | M274: 견적 | N274: 45302B5F35F03C7C8E458D3F7A7A83DD0D485 | Q274: 010111 | R274: F | S274: F | T274: T | AU274: 01011145302B5F35F03C7C8E458D3F7A7A83DD0D485 | AV274: 142
A275: 아크릴 스카시 도장마감 5T | B275: H100 | C275: EA | D275: 33 | M275: 견적 | N275: 45302B5F35F03C7C8E458D3F7A7A83DD0D48A | Q275: 010111 | R275: F | S275: F | T275: T | AU275: 01011145302B5F35F03C7C8E458D3F7A7A83DD0D48A | AV275: 143
A276: 아크릴 5T + 조도향상 시트부착 | B276: 1,000MM | C276: EA | D276: 10 | M276: 견적 | N276: 45302B5F35F03C7C8E458D3F7A7A83DD0D48B | Q276: 010111 | R276: F | S276: F | T276: T | AU276: 01011145302B5F35F03C7C8E458D3F7A7A83DD0D48B | AV276: 144
A277: 아크릴 5T + 조도향상 시트부착 | B277: 700MM | C277: EA | D277: 4 | M277: 견적 | N277: 45302B5F35F03C7C8E458D3F7A7A83DD0D757 | Q277: 010111 | R277: F | S277: F | T277: T | AU277: 01011145302B5F35F03C7C8E458D3F7A7A83DD0D757 | AV277: 145
...
